BEGIN:VCALENDAR
VERSION:2.0
PRODID:SchoolNow
CALSCALE:GREGORIAN
BEGIN:VEVENT
UID:26c29228-f709-11f0-b163-0a58a9feac02
DTSTAMP:20260121T203832Z
SUMMARY:Proteges and Building Mentors
LOCATION:Professional Development Room - Riverdale School
URL;VALUE=URI:https://www.district148.net/mentor/calendar/8838890/proteges-
 clone-clone-clone-clone-clone-clone-clone-clone-clone-clone-clone-clone
DTSTART:20260512T203000Z
DTEND:20260512T213000Z
END:VEVENT
END:VCALENDAR
