BEGIN:VCALENDAR
VERSION:2.0
PRODID:SchoolNow
CALSCALE:GREGORIAN
BEGIN:VEVENT
UID:1658518e-f709-11f0-abfc-0affd83426db
DTSTAMP:20260121T203805Z
SUMMARY:Proteges and Building Mentors
LOCATION:Professional Development Room - Riverdale School
URL;VALUE=URI:https://www.district148.net/mentor/calendar/8838889/proteges-
 clone-clone-clone-clone-clone-clone-clone-clone-clone-clone
DTSTART:20260429T203000Z
DTEND:20260429T212000Z
END:VEVENT
END:VCALENDAR
