BEGIN:VCALENDAR
VERSION:2.0
PRODID:SchoolNow
CALSCALE:GREGORIAN
BEGIN:VEVENT
UID:0ab8c14c-f709-11f0-802e-0ebcdc9782fd
DTSTAMP:20260121T203745Z
SUMMARY:Proteges and Building Mentors
LOCATION:Professional Development Room - Riverdale School
URL;VALUE=URI:https://www.district148.net/mentor/calendar/8838888/proteges-
 clone-clone-clone-clone-clone-clone-clone-clone-clone
DTSTART:20260429T122000Z
DTEND:20260429T131000Z
END:VEVENT
END:VCALENDAR
