BEGIN:VCALENDAR
VERSION:2.0
PRODID:SchoolNow
CALSCALE:GREGORIAN
BEGIN:VEVENT
UID:e7626c48-f708-11f0-9e8c-0ee2f9582649
DTSTAMP:20260121T203646Z
SUMMARY:Building Mentors
LOCATION:Professional Development Room - Riverdale School
URL;VALUE=URI:https://www.district148.net/mentor/calendar/8838887/building-
 mentors-clone-clone-clone-clone-clone-clone
DTSTART:20260311T203000Z
DTEND:20260311T212000Z
END:VEVENT
END:VCALENDAR
