BEGIN:VCALENDAR
VERSION:2.0
PRODID:SchoolNow
CALSCALE:GREGORIAN
BEGIN:VEVENT
UID:bb1263d2-f708-11f0-9fd0-0a58a9feac02
DTSTAMP:20260121T203531Z
SUMMARY:Protege
LOCATION:Professional Development Room - Riverdale School
URL;VALUE=URI:https://www.district148.net/mentor/calendar/8838885/proteges-
 clone-clone-clone-clone-clone-clone-clone-clone-clone
DTSTART:20260304T213000Z
DTEND:20260304T222000Z
END:VEVENT
END:VCALENDAR
