BEGIN:VCALENDAR
VERSION:2.0
PRODID:SchoolNow
CALSCALE:GREGORIAN
BEGIN:VEVENT
UID:ad398a56-f708-11f0-aee5-0a58a9feac02
DTSTAMP:20260121T203508Z
SUMMARY:Proteges
LOCATION:Professional Development Room - Riverdale School
URL;VALUE=URI:https://www.district148.net/mentor/calendar/8838884/proteges-
 clone-clone-clone-clone-clone-clone-clone-clone
DTSTART:20260304T132000Z
DTEND:20260304T141000Z
END:VEVENT
END:VCALENDAR
