BEGIN:VCALENDAR
VERSION:2.0
PRODID:SchoolNow
CALSCALE:GREGORIAN
BEGIN:VEVENT
UID:1f102fbe-f708-11f0-bcd2-0a58a9feac02
DTSTAMP:20260121T203110Z
SUMMARY:Proteges and Building Mentors
LOCATION:Professional Development Room - Riverdale School
URL;VALUE=URI:https://www.district148.net/mentor/calendar/8838883/proteges-
 clone-clone-clone-clone-clone-clone-clone-clone-clone-clone
DTSTART:20260211T213000Z
DTEND:20260211T222000Z
END:VEVENT
END:VCALENDAR
