BEGIN:VCALENDAR
VERSION:2.0
PRODID:SchoolNow
CALSCALE:GREGORIAN
BEGIN:VEVENT
UID:0eb0a66c-f708-11f0-b5b7-0e2c1359cd95
DTSTAMP:20260121T203042Z
SUMMARY:Proteges and Building Mentors
LOCATION:Professional Development Room - Riverdale School
URL;VALUE=URI:https://www.district148.net/mentor/calendar/8838882/proteges-
 clone-clone-clone-clone-clone-clone-clone-clone-clone
DTSTART:20260211T132000Z
DTEND:20260211T141000Z
END:VEVENT
END:VCALENDAR
