BEGIN:VCALENDAR
VERSION:2.0
PRODID:SchoolNow
CALSCALE:GREGORIAN
BEGIN:VEVENT
UID:0372ae0c-eff7-11f0-b9d4-026f654cd4b5
DTSTAMP:20260112T204104Z
SUMMARY:Proteges and Building Mentors
LOCATION:Professional Development Room - Riverdale School
URL;VALUE=URI:https://www.district148.net/mentor/calendar/8835216/proteges-
 clone-clone-clone-clone-clone-clone-clone-clone-clone
DTSTART:20260113T213000Z
DTEND:20260113T222000Z
END:VEVENT
END:VCALENDAR
