BEGIN:VCALENDAR
VERSION:2.0
PRODID:SchoolNow
CALSCALE:GREGORIAN
BEGIN:VEVENT
UID:f3489adc-eff6-11f0-ae64-0a58a9feac02
DTSTAMP:20260112T204037Z
SUMMARY:Proteges and Building Mentors
LOCATION:Professional Development Room - Riverdale School
URL;VALUE=URI:https://www.district148.net/mentor/calendar/8835215/proteges-
 clone-clone-clone-clone-clone-clone-clone-clone
DTSTART:20260113T132000Z
DTEND:20260113T141000Z
END:VEVENT
END:VCALENDAR
