BEGIN:VCALENDAR
VERSION:2.0
PRODID:SchoolNow
CALSCALE:GREGORIAN
BEGIN:VEVENT
UID:3cfcec88-1bbc-11f0-a13f-0224763a4f15
DTSTAMP:20250417T184613Z
SUMMARY:Second Year Teachers and Building Mentors Meeting
LOCATION:Riverdale School
URL;VALUE=URI:https://www.district148.net/mentor/calendar/7947826/second-ye
 ar-teachers-and-building-mentors-meeting-clone-clone-clone
DTSTART:20250806T170000Z
DTEND:20250806T193000Z
END:VEVENT
END:VCALENDAR
