BEGIN:VCALENDAR
VERSION:2.0
PRODID:SchoolNow
CALSCALE:GREGORIAN
BEGIN:VEVENT
UID:1c5307d8-1bbc-11f0-8042-0a58a9feac02
DTSTAMP:20250417T184519Z
SUMMARY:New Teacher Orientation
LOCATION:Riverdale School
URL;VALUE=URI:https://www.district148.net/mentor/calendar/7947825/new-teach
 er-orientation-clone-clone-clone-clone
DTSTART:20250806T140000Z
DTEND:20250806T193000Z
END:VEVENT
END:VCALENDAR
