BEGIN:VCALENDAR
VERSION:2.0
PRODID:SchoolNow
CALSCALE:GREGORIAN
BEGIN:VEVENT
UID:049442f6-1bbc-11f0-9db9-0224763a4f15
DTSTAMP:20250417T184439Z
SUMMARY:New Teacher Orientation
LOCATION:Riverdale School
URL;VALUE=URI:https://www.district148.net/mentor/calendar/7947824/new-teach
 er-orientation-clone-clone-clone
DTSTART:20250805T140000Z
DTEND:20250805T193000Z
END:VEVENT
END:VCALENDAR
