BEGIN:VCALENDAR
VERSION:2.0
PRODID:SchoolNow
CALSCALE:GREGORIAN
BEGIN:VEVENT
UID:66e79534-040b-11f0-9a00-0affd08f2d69
DTSTAMP:20250318T151341Z
SUMMARY:IMP Sponsored Workshop: Productive Struggle
LOCATION:Professional Development Room - Riverdale School
URL;VALUE=URI:https://www.district148.net/mentor/calendar/7714249/proteges-
 clone-clone-clone-clone-clone-clone-clone-clone-clone-clone-clone-clone-cl
 one-clone-clone-clone-clone-clone
DTSTART:20250409T203000Z
DTEND:20250409T220000Z
END:VEVENT
END:VCALENDAR
