BEGIN:VCALENDAR
VERSION:2.0
PRODID:SchoolNow
CALSCALE:GREGORIAN
BEGIN:VEVENT
UID:ac559baa-eeeb-11ef-b8fa-0a58a9feac02
DTSTAMP:20250219T180224Z
SUMMARY:IMP Sponsored Workshop: Student Mindset & Grit
LOCATION:Professional Development Room - Riverdale School
URL;VALUE=URI:https://www.district148.net/mentor/calendar/7501678/proteges-
 clone-clone-clone-clone-clone-clone-clone-clone-clone-clone-clone-clone-cl
 one-clone-clone-clone-clone
DTSTART:20250318T203000Z
DTEND:20250318T220000Z
END:VEVENT
END:VCALENDAR
