BEGIN:VCALENDAR
VERSION:2.0
PRODID:SchoolNow
CALSCALE:GREGORIAN
BEGIN:VEVENT
UID:a4a770ca-bd65-11ef-aa3f-0a58a9feac02
DTSTAMP:20250417T182824Z
SUMMARY:Proteges and Building Mentors
LOCATION:Professional Development Room - Riverdale School
URL;VALUE=URI:https://www.district148.net/mentor/calendar/7191420/proteges-
 clone-clone-clone-clone-clone-clone-clone-clone-clone-clone-clone
DTSTART:20250513T203000Z
DTEND:20250513T213000Z
END:VEVENT
END:VCALENDAR
