BEGIN:VCALENDAR
VERSION:2.0
PRODID:SchoolNow
CALSCALE:GREGORIAN
BEGIN:VEVENT
UID:7725ea50-bd65-11ef-b1c4-0a58a9feac02
DTSTAMP:20241218T172816Z
SUMMARY:Proteges and Building Mentors
LOCATION:Professional Development Room - Riverdale School
URL;VALUE=URI:https://www.district148.net/mentor/calendar/7191419/proteges-
 clone-clone-clone-clone-clone-clone-clone-clone-clone
DTSTART:20250429T203000Z
DTEND:20250429T212000Z
END:VEVENT
END:VCALENDAR
