BEGIN:VCALENDAR
VERSION:2.0
PRODID:SchoolNow
CALSCALE:GREGORIAN
BEGIN:VEVENT
UID:6cbc5e0a-bd65-11ef-8558-0a58a9feac02
DTSTAMP:20241218T172758Z
SUMMARY:Proteges and Building Mentors
LOCATION:Professional Development Room - Riverdale School
URL;VALUE=URI:https://www.district148.net/mentor/calendar/7191418/proteges-
 clone-clone-clone-clone-clone-clone-clone-clone
DTSTART:20250429T122000Z
DTEND:20250429T131000Z
END:VEVENT
END:VCALENDAR
