BEGIN:VCALENDAR
VERSION:2.0
PRODID:SchoolNow
CALSCALE:GREGORIAN
BEGIN:VEVENT
UID:0a42ef6a-bd64-11ef-9878-0a58a9feac02
DTSTAMP:20250213T171801Z
SUMMARY:Building Mentors
LOCATION:Professional Development Room - Riverdale School
URL;VALUE=URI:https://www.district148.net/mentor/calendar/7191414/building-
 mentors-clone-clone-clone-clone-clone
DTSTART:20250312T203000Z
DTEND:20250312T212000Z
END:VEVENT
END:VCALENDAR
