BEGIN:VCALENDAR
VERSION:2.0
PRODID:SchoolNow
CALSCALE:GREGORIAN
BEGIN:VEVENT
UID:f347ea90-bd63-11ef-9af2-0a58a9feac02
DTSTAMP:20250213T171748Z
SUMMARY:Building Mentors
LOCATION:Professional Development Room - Riverdale School
URL;VALUE=URI:https://www.district148.net/mentor/calendar/7191413/building-
 mentors-clone-clone-clone-clone-clone-clone-clone
DTSTART:20250312T122000Z
DTEND:20250312T131000Z
END:VEVENT
END:VCALENDAR
