BEGIN:VCALENDAR
VERSION:2.0
PRODID:SchoolNow
CALSCALE:GREGORIAN
BEGIN:VEVENT
UID:cfba61c0-bd63-11ef-a5fa-0a58a9feac02
DTSTAMP:20241218T171647Z
SUMMARY:Protege
LOCATION:Professional Development Room - Riverdale School
URL;VALUE=URI:https://www.district148.net/mentor/calendar/7191412/proteges-
 clone-clone-clone-clone-clone-clone-clone-clone
DTSTART:20250305T213000Z
DTEND:20250305T222000Z
END:VEVENT
END:VCALENDAR
