BEGIN:VCALENDAR
VERSION:2.0
PRODID:SchoolNow
CALSCALE:GREGORIAN
BEGIN:VEVENT
UID:afcda7aa-bd63-11ef-9e76-0a58a9feac02
DTSTAMP:20241218T171532Z
SUMMARY:Proteges
LOCATION:Professional Development Room - Riverdale School
URL;VALUE=URI:https://www.district148.net/mentor/calendar/7191411/proteges-
 clone-clone-clone-clone-clone-clone-clone
DTSTART:20250305T132000Z
DTEND:20250305T141000Z
END:VEVENT
END:VCALENDAR
