BEGIN:VCALENDAR
VERSION:2.0
PRODID:SchoolNow
CALSCALE:GREGORIAN
BEGIN:VEVENT
UID:c62558bc-1d53-11f1-b0bf-0a58a9feac02
DTSTAMP:20260311T141351Z
SUMMARY:Special Board Of Education Meeting
URL;VALUE=URI:https://www.district148.net/calendar/8910251/special-board-of
 -education-meeting
DTSTART:20260312T223000Z
DTEND:20260313T045900Z
END:VEVENT
END:VCALENDAR
