BEGIN:VCALENDAR
VERSION:2.0
PRODID:SchoolNow
CALSCALE:GREGORIAN
BEGIN:VEVENT
UID:959f4ad4-f7d0-11f0-82be-0a58a9feac02
DTSTAMP:20260122T202608Z
SUMMARY:Inclement Weather Day (ALL DISTRICT 148 SCHOOLS WILL BE CLOSED)
URL;VALUE=URI:https://www.district148.net/calendar/8839427/inclement-weathe
 r-day-all-district-148-schools-will-be-closed
DTSTART;VALUE=DATE:20260123
DTEND;VALUE=DATE:20260124
END:VEVENT
END:VCALENDAR
