BEGIN:VCALENDAR
VERSION:2.0
PRODID:SchoolNow
CALSCALE:GREGORIAN
BEGIN:VEVENT
UID:b68e5432-a547-11f0-aefe-0a58a9feac02
DTSTAMP:20251009T194229Z
SUMMARY:Special 'Board of Education' Meeting
URL;VALUE=URI:https://www.district148.net/calendar/8709197/special-board-of
 -education-meeting
DTSTART:20251011T200000Z
DTEND:20251011T230000Z
END:VEVENT
END:VCALENDAR
