BEGIN:VCALENDAR
VERSION:2.0
PRODID:SchoolNow
CALSCALE:GREGORIAN
BEGIN:VEVENT
UID:6f8b217a-89c5-11f0-9d41-0eda9216a9fd
DTSTAMP:20250904T192912Z
SUMMARY:Back to School Event
URL;VALUE=URI:https://www.district148.net/calendar/8580836/back-to-school-e
 vent
DTSTART:20250916T230000Z
DTEND:20250917T000000Z
END:VEVENT
END:VCALENDAR
