BEGIN:VCALENDAR
VERSION:2.0
PRODID:SchoolNow
CALSCALE:GREGORIAN
BEGIN:VEVENT
UID:2986e1f0-89c5-11f0-a8b3-0e285c995fa1
DTSTAMP:20250904T192714Z
SUMMARY:Back to School Event
URL;VALUE=URI:https://www.district148.net/calendar/8580835/back-to-school-e
 vent
DTSTART:20250911T230000Z
DTEND:20250912T000000Z
END:VEVENT
END:VCALENDAR
