BEGIN:VCALENDAR
VERSION:2.0
PRODID:SchoolNow
CALSCALE:GREGORIAN
BEGIN:VEVENT
UID:aa8fb516-89c4-11f0-b578-0a58a9feac02
DTSTAMP:20250904T192600Z
SUMMARY:Back to School Event
URL;VALUE=URI:https://www.district148.net/calendar/8580833/back-to-school-e
 vent
DTSTART:20250910T230000Z
DTEND:20250911T000000Z
END:VEVENT
END:VCALENDAR
