BEGIN:VCALENDAR
VERSION:2.0
PRODID:SchoolNow
CALSCALE:GREGORIAN
BEGIN:VEVENT
UID:9fca134a-5ccb-11f0-90c3-0a58a9feac02
DTSTAMP:20250709T135007Z
SUMMARY:Juneteenth - District Office Closed
URL;VALUE=URI:https://www.district148.net/calendar/8398759/juneteenth-distr
 ict-office-closed-clone-clone
DTSTART;VALUE=DATE:20260619
DTEND;VALUE=DATE:20260620
END:VEVENT
END:VCALENDAR
