BEGIN:VCALENDAR
VERSION:2.0
PRODID:SchoolNow
CALSCALE:GREGORIAN
BEGIN:VEVENT
UID:941b9672-5ccb-11f0-aa46-0a58a9feac02
DTSTAMP:20250709T134948Z
SUMMARY:Last Day of School
URL;VALUE=URI:https://www.district148.net/calendar/8398756/last-day-of-scho
 ol-clone-clone-clone-clone
DTSTART;VALUE=DATE:20260529
DTEND;VALUE=DATE:20260530
END:VEVENT
END:VCALENDAR
