BEGIN:VCALENDAR
VERSION:2.0
PRODID:SchoolNow
CALSCALE:GREGORIAN
BEGIN:VEVENT
UID:82cf886a-5ccb-11f0-9c83-0a58a9feac02
DTSTAMP:20250709T134919Z
SUMMARY:Memorial Day - NO SCHOOL
URL;VALUE=URI:https://www.district148.net/calendar/8398754/memorial-day-no-
 school-clone-clone-clone-clone
DTSTART;VALUE=DATE:20260525
DTEND;VALUE=DATE:20260526
END:VEVENT
END:VCALENDAR
