BEGIN:VCALENDAR
VERSION:2.0
PRODID:SchoolNow
CALSCALE:GREGORIAN
BEGIN:VEVENT
UID:56d07c38-5ccb-11f0-b3ad-02638327b561
DTSTAMP:20260326T001337Z
SUMMARY:Spring Break - NO SCHOOL
URL;VALUE=URI:https://www.district148.net/calendar/8398747/spring-break-no-
 school
DTSTART;VALUE=DATE:20260406
DTEND;VALUE=DATE:20260411
END:VEVENT
END:VCALENDAR
