BEGIN:VCALENDAR
VERSION:2.0
PRODID:SchoolNow
CALSCALE:GREGORIAN
BEGIN:VEVENT
UID:4498971c-5ccb-11f0-8ea0-0afffb6250df
DTSTAMP:20260326T001331Z
SUMMARY:Good Friday - NO SCHOOL
URL;VALUE=URI:https://www.district148.net/calendar/8398745/good-friday-no-s
 chool
DTSTART;VALUE=DATE:20260403
DTEND;VALUE=DATE:20260404
END:VEVENT
END:VCALENDAR
