BEGIN:VCALENDAR
VERSION:2.0
PRODID:SchoolNow
CALSCALE:GREGORIAN
BEGIN:VEVENT
UID:379522a6-5ccb-11f0-bb82-0a58a9feac02
DTSTAMP:20260326T001302Z
SUMMARY:Parent Teacher Conference
URL;VALUE=URI:https://www.district148.net/calendar/8398743/parent-teacher-c
 onference
DTSTART;VALUE=DATE:20260402
DTEND;VALUE=DATE:20260403
END:VEVENT
END:VCALENDAR
