BEGIN:VCALENDAR
VERSION:2.0
PRODID:SchoolNow
CALSCALE:GREGORIAN
BEGIN:VEVENT
UID:7d3a215e-5cca-11f0-b320-02685cdb2011
DTSTAMP:20250709T134200Z
SUMMARY:School Improvement Plan Day - Student Dismissal AT NOON
URL;VALUE=URI:https://www.district148.net/calendar/8398735/school-improveme
 nt-plan-day-student-dismissal-at-noon-clone-clone-clone-clone-clone-clone-
 clone-clone-clone-clone-clone-clone-clone-clone-clone-clone-clone-clone-cl
 one-clone-clone-clone-clone-clone-clone-clone-clone-clone-clone-clone-clon
 e
DTSTART;VALUE=DATE:20260130
DTEND;VALUE=DATE:20260131
END:VEVENT
END:VCALENDAR
