BEGIN:VCALENDAR
VERSION:2.0
PRODID:SchoolNow
CALSCALE:GREGORIAN
BEGIN:VEVENT
UID:6b170f78-5cca-11f0-9266-0a58a9feac02
DTSTAMP:20250709T134129Z
SUMMARY:Dr. Martin Luther King Jr Day - NO SCHOOL
URL;VALUE=URI:https://www.district148.net/calendar/8398734/dr-martin-luther
 -king-jr-day-no-school-clone-clone-clone-clone
DTSTART;VALUE=DATE:20260119
DTEND;VALUE=DATE:20260120
END:VEVENT
END:VCALENDAR
