BEGIN:VCALENDAR
VERSION:2.0
PRODID:SchoolNow
CALSCALE:GREGORIAN
BEGIN:VEVENT
UID:3e9f0e96-5cca-11f0-ba16-0a58a9feac02
DTSTAMP:20250709T134015Z
SUMMARY:Winter Break - No School
URL;VALUE=URI:https://www.district148.net/calendar/8398732/winter-break-no-
 school-clone-clone-clone
DTSTART;VALUE=DATE:20251222
DTEND;VALUE=DATE:20260103
END:VEVENT
END:VCALENDAR
