BEGIN:VCALENDAR
VERSION:2.0
PRODID:SchoolNow
CALSCALE:GREGORIAN
BEGIN:VEVENT
UID:1615c0d2-5cca-11f0-b9d0-0affe40e2d29
DTSTAMP:20250709T133907Z
SUMMARY:Fall Break/Thanksgiving - No School
URL;VALUE=URI:https://www.district148.net/calendar/8398730/fall-break-thank
 sgiving-no-school-clone-clone-clone
DTSTART;VALUE=DATE:20251126
DTEND;VALUE=DATE:20251129
END:VEVENT
END:VCALENDAR
