BEGIN:VCALENDAR
VERSION:2.0
PRODID:SchoolNow
CALSCALE:GREGORIAN
BEGIN:VEVENT
UID:ff844230-5cc9-11f0-aa17-0a58a9feac02
DTSTAMP:20250709T133829Z
SUMMARY:School Improvement Plan Day - Student Dismissal AT NOON
URL;VALUE=URI:https://www.district148.net/calendar/8398729/school-improveme
 nt-plan-day-student-dismissal-at-noon-clone-clone-clone-clone-clone-clone-
 clone-clone-clone-clone-clone-clone-clone-clone-clone-clone-clone-clone-cl
 one-clone-clone-clone-clone-clone-clone-clone-clone-clone-clone-clone-clon
 e
DTSTART;VALUE=DATE:20251114
DTEND;VALUE=DATE:20251115
END:VEVENT
END:VCALENDAR
