BEGIN:VCALENDAR
VERSION:2.0
PRODID:SchoolNow
CALSCALE:GREGORIAN
BEGIN:VEVENT
UID:efd694d2-5cc9-11f0-909e-0a58a9feac02
DTSTAMP:20250709T133803Z
SUMMARY:Veteran's Day - No School
URL;VALUE=URI:https://www.district148.net/calendar/8398728/veterans-day-no-
 school-clone-clone-clone
DTSTART;VALUE=DATE:20251111
DTEND;VALUE=DATE:20251112
END:VEVENT
END:VCALENDAR
