BEGIN:VCALENDAR
VERSION:2.0
PRODID:SchoolNow
CALSCALE:GREGORIAN
BEGIN:VEVENT
UID:bfeb3ec6-5cc9-11f0-9073-0273f81fc779
DTSTAMP:20250709T133642Z
SUMMARY:Parent Teacher Conference
URL;VALUE=URI:https://www.district148.net/calendar/8398726/parent-teacher-c
 onference-no-school-clone-clone-clone-clone-clone
DTSTART;VALUE=DATE:20251024
DTEND;VALUE=DATE:20251025
END:VEVENT
END:VCALENDAR
