BEGIN:VCALENDAR
VERSION:2.0
PRODID:SchoolNow
CALSCALE:GREGORIAN
BEGIN:VEVENT
UID:ad4bc6be-5cc9-11f0-86b3-0a58a9feac02
DTSTAMP:20250709T133611Z
SUMMARY:Columbus Day - No School
URL;VALUE=URI:https://www.district148.net/calendar/8398725/columbus-day-no-
 school-clone-clone-clone-clone
DTSTART;VALUE=DATE:20251013
DTEND;VALUE=DATE:20251014
END:VEVENT
END:VCALENDAR
