BEGIN:VCALENDAR
VERSION:2.0
PRODID:SchoolNow
CALSCALE:GREGORIAN
BEGIN:VEVENT
UID:7898dca4-5cc9-11f0-9cbb-0afffb6250df
DTSTAMP:20250709T133442Z
SUMMARY:School Improvement Plan Day - Student Dismissal AT NOON
URL;VALUE=URI:https://www.district148.net/calendar/8398722/school-improveme
 nt-plan-day-student-dismissal-at-noon-clone-clone-clone-clone-clone-clone-
 clone-clone-clone-clone-clone-clone-clone-clone-clone-clone-clone-clone-cl
 one-clone-clone-clone-clone-clone-clone-clone-clone-clone-clone-clone
DTSTART;VALUE=DATE:20250905
DTEND;VALUE=DATE:20250906
END:VEVENT
END:VCALENDAR
