BEGIN:VCALENDAR
VERSION:2.0
PRODID:SchoolNow
CALSCALE:GREGORIAN
BEGIN:VEVENT
UID:393848ec-5cc9-11f0-b393-0a58a9feac02
DTSTAMP:20250709T133256Z
SUMMARY:Labor Day - No School
URL;VALUE=URI:https://www.district148.net/calendar/8398721/labor-day-no-sch
 ool-clone-clone-clone-clone
DTSTART;VALUE=DATE:20250901
DTEND;VALUE=DATE:20250902
END:VEVENT
END:VCALENDAR
