BEGIN:VCALENDAR
VERSION:2.0
PRODID:SchoolNow
CALSCALE:GREGORIAN
BEGIN:VEVENT
UID:265fe4be-5cc9-11f0-993f-0a58a9feac02
DTSTAMP:20250709T133225Z
SUMMARY:First Day of School
URL;VALUE=URI:https://www.district148.net/calendar/8398720/first-day-of-sch
 ool-clone-clone-clone-clone
DTSTART;VALUE=DATE:20250818
DTEND;VALUE=DATE:20250819
END:VEVENT
END:VCALENDAR
