BEGIN:VCALENDAR
VERSION:2.0
PRODID:SchoolNow
CALSCALE:GREGORIAN
BEGIN:VEVENT
UID:14611d6e-5cc9-11f0-b4f9-0a58a9feac02
DTSTAMP:20250709T133154Z
SUMMARY:Institute Day
URL;VALUE=URI:https://www.district148.net/calendar/8398719/institute-day-cl
 one-clone-clone-clone
DTSTART;VALUE=DATE:20250814
DTEND;VALUE=DATE:20250816
END:VEVENT
END:VCALENDAR
