BEGIN:VCALENDAR
VERSION:2.0
PRODID:SchoolNow
CALSCALE:GREGORIAN
BEGIN:VEVENT
UID:89214662-5777-11f0-bf93-0a58a9feac02
DTSTAMP:20250728T131741Z
SUMMARY:Parent Advisory Meeting
LOCATION:District Office
URL;VALUE=URI:https://www.district148.net/calendar/8378546/parent-advisory-
 meeting-clone-clone-clone-clone
DTSTART:20251113T000000Z
DTEND:20251113T010000Z
END:VEVENT
END:VCALENDAR
