BEGIN:VCALENDAR
VERSION:2.0
PRODID:SchoolNow
CALSCALE:GREGORIAN
BEGIN:VEVENT
UID:5d5b4604-5777-11f0-af6e-0a58a9feac02
DTSTAMP:20260113T190023Z
SUMMARY:Policy Meeting (Cancelled)
LOCATION:District Office
URL;VALUE=URI:https://www.district148.net/calendar/8378545/policy-meeting-c
 lone-clone-clone-clone-clone
DTSTART:20260115T000000Z
DTEND:20260115T010000Z
END:VEVENT
END:VCALENDAR
