BEGIN:VCALENDAR
VERSION:2.0
PRODID:SchoolNow
CALSCALE:GREGORIAN
BEGIN:VEVENT
UID:5445e9ac-5777-11f0-8653-0a58a9feac02
DTSTAMP:20250902T135415Z
SUMMARY:Policy Meeting
LOCATION:District Office
URL;VALUE=URI:https://www.district148.net/calendar/8378544/policy-meeting-c
 lone-clone-clone-clone
DTSTART:20250903T230000Z
DTEND:20250903T233000Z
END:VEVENT
END:VCALENDAR
