BEGIN:VCALENDAR
VERSION:2.0
PRODID:SchoolNow
CALSCALE:GREGORIAN
BEGIN:VEVENT
UID:3c5cd3dc-5777-11f0-8fff-0a58a9feac02
DTSTAMP:20260113T185851Z
SUMMARY:Ethics Meeting (Cancelled)
URL;VALUE=URI:https://www.district148.net/calendar/8378543/ethics-meeting-c
 lone-clone-clone-clone-clone
DTSTART:20260115T010000Z
DTEND:20260115T020000Z
END:VEVENT
END:VCALENDAR
